BEGIN:VCALENDAR
VERSION:2.0
PRODID:Imitheme.com 
BEGIN:VEVENT
UID:20260423T103338687245494
DTSTAMP;TZID=UTC:2026-04-23 10:33:38
DTSTART;TZID=America/Los_Angeles:20260423T103338
DTEND;TZID=America/Los_Angeles:20260423T103338
SUMMARY:Build with watsonx: Integrovatelná umělá inteligence
LOCATION:
DESCRIPTION:TD SYNNEX a IBM zve na workshop specializovaný na integrovatelnou AI pro všechny účastníky zdarma. 📅 4. března 2025 ⏰úterý od 12:30 – 17:30 📍Mama Shelter Prague 🧑‍💼pouze offline na Praze 7 🔍 Co vás čeká? - Business casy implementace AI - Diskuze o integraci AI do komerčního softwaru - Na místě budou konzultanti IBM, se kterými můžete probrat, co zrovna ve firmě řešíte - Obchodně-marketingové okénko pořádajících firem s cílem ukázat pokročilé AI technologie - Networking Více najdete v podrobnostech akce. 💡Přihlášení a vstupenky zdarma. #UmelaInteligence #diskuze #Atransformace #TDSYNNEX #IBM #AIbusinesscase #podnikoveprocesy
URL:https://mistr.ai/kalendar/build-with-watsonx-integrovatelna-umela-inteligence/
END:VEVENT
END:VCALENDAR
